BEGIN:VCALENDAR
VERSION:2.0
PRODID:-//Bowlero Lanes &amp; Lounge, Royal Oak, MI - ECPv6.15.20//NONSGML v1.0//EN
CALSCALE:GREGORIAN
METHOD:PUBLISH
X-WR-CALNAME:Bowlero Lanes &amp; Lounge, Royal Oak, MI
X-ORIGINAL-URL:https://bowlerodetroit.com
X-WR-CALDESC:Events for Bowlero Lanes &amp; Lounge, Royal Oak, MI
REFRESH-INTERVAL;VALUE=DURATION:PT1H
X-Robots-Tag:noindex
X-PUBLISHED-TTL:PT1H
BEGIN:VTIMEZONE
TZID:America/Detroit
BEGIN:DAYLIGHT
TZOFFSETFROM:-0500
TZOFFSETTO:-0400
TZNAME:EDT
DTSTART:20240310T070000
END:DAYLIGHT
BEGIN:STANDARD
TZOFFSETFROM:-0400
TZOFFSETTO:-0500
TZNAME:EST
DTSTART:20241103T060000
END:STANDARD
BEGIN:DAYLIGHT
TZOFFSETFROM:-0500
TZOFFSETTO:-0400
TZNAME:EDT
DTSTART:20250309T070000
END:DAYLIGHT
BEGIN:STANDARD
TZOFFSETFROM:-0400
TZOFFSETTO:-0500
TZNAME:EST
DTSTART:20251102T060000
END:STANDARD
BEGIN:DAYLIGHT
TZOFFSETFROM:-0500
TZOFFSETTO:-0400
TZNAME:EDT
DTSTART:20260308T070000
END:DAYLIGHT
BEGIN:STANDARD
TZOFFSETFROM:-0400
TZOFFSETTO:-0500
TZNAME:EST
DTSTART:20261101T060000
END:STANDARD
END:VTIMEZONE
BEGIN:VEVENT
DTSTART;TZID=America/Detroit:20251122T210000
DTEND;TZID=America/Detroit:20251123T010000
DTSTAMP:20260424T044633
CREATED:20251023T232228Z
LAST-MODIFIED:20251023T232228Z
UID:10000869-1763845200-1763859600@bowlerodetroit.com
SUMMARY:Remnants w/ Lanternfly + DJ Sovain Sylvain
DESCRIPTION:LIVE IN THE LOUNGE! \nRemnants\nw/ Lanternfly\nDJ Sovain Sylvain (lanes) \nSaturday\, November 22\n(LIVE MUSIC: 9pm-11pm // DJ: 8pm-1am)\n——————————————\n4-piece indie/alternative band Renmants returns to the lounge wsg Laternfly! \n+ Resident DJ Sovain Sylvain groovin’ in the lanes – soul\, motown\, garage and more \nLimited lanes available to book online in advance. Walk-ins welcome and wait times vary. All ages in the lanes w/ parent or guardian recommended for guests under 17. Free parking.
URL:https://bowlerodetroit.com/show/remnants-w-lanternfly-dj-sovain-sylvain/
LOCATION:MI
CATEGORIES:Detroit,Grunge,Indie,Live DJ,Live Music,Motown,Punk Rock
ATTACH;FMTTYPE=image/png:https://bowlerodetroit.com/wp-content/uploads/2025/10/November16x9.png
END:VEVENT
BEGIN:VEVENT
DTSTART;TZID=America/Detroit:20251121T210000
DTEND;TZID=America/Detroit:20251122T010000
DTSTAMP:20260424T044633
CREATED:20251024T171426Z
LAST-MODIFIED:20251104T162214Z
UID:10000871-1763758800-1763773200@bowlerodetroit.com
SUMMARY:Un-Dressed To Kill w/ Trash Brats Duo: An Unmasked Tribute to Kisstory
DESCRIPTION:You’re invited to the first public appearance of “Un-Dressed to Kill”! An Unmasked tribute to KISS like you’ve never experienced before! \nNo makeup\, no costumes\, ALL POWER! \nWe also have Detroit rock royalty in Ricky Rat and Brian McCarty as the Trash Brats duo joining us to open the show. \nLimited lanes available to book online in advance. Walk-ins welcome and wait times vary. All ages in the lanes w/ parent or guardian recommended for guests under 17. Free parking.
URL:https://bowlerodetroit.com/show/un-dressed-to-kill-w-trash-brats-duo-an-unmasked-tribute-to-kisstory/
LOCATION:MI
CATEGORIES:70s,80s,Band,Cover Band,Free,Goth,Heavy Metal,Heavy Rock,Legends,Live DJ,Live Music,Metal,No cover,Retro,Rock,Tribute Band,Vinyl Records,Vocalist
ATTACH;FMTTYPE=image/png:https://bowlerodetroit.com/wp-content/uploads/2025/10/November16x9-2.png
END:VEVENT
BEGIN:VEVENT
DTSTART;TZID=America/Detroit:20251115T210000
DTEND;TZID=America/Detroit:20251116T010000
DTSTAMP:20260424T044633
CREATED:20251016T233013Z
LAST-MODIFIED:20251022T214732Z
UID:10000868-1763240400-1763254800@bowlerodetroit.com
SUMMARY:Angie Hartley w/ Sea Changes + DJ Ryan Gimpert
DESCRIPTION:LIVE IN THE LOUNGE!\n\nAngie Hartleyw/ Sea Changes+ DJ Ryan Gimpert (lanes)\n\nSaturday\, November 15No Cover / 18+(LIVE MUSIC: 9pm-11pm // DJ: 8pm-1am)—————————————–\nTalented. Hilarious. Hot. Angie Hartley is a singer/songwriter from Detroit\, Michigan who has been entertaining and sharing her talent with the world since she was a child. Inheriting her love for the guitar from her great-grandfather\, Hillbilly guitarist Wally Holcomb\, and her cousin\, Detroit legend Robert Gillespie\, Angie learned how to play on a pre-war Martin by studying her favorites: No Doubt\, the Beatles\, the Clash\, Britney Spears\, the Shirelles\, and Led Zeppelin. All of these artists left a lasting imprint on Angie and her music\, inspiring her to create the infectious retro pop/rock songs she and her band play today! Angie’s sound is reminiscent of the old Detroit\, yet fresh and exciting; her mix of melodic\, memorable tunes and witty crowd work leave the audience wanting more! Angie’s debut single “Are You Lonely?” and the accompanying music video is a direct reflection of what you can expect from this eclectic star.\n\nSea Changes is the project of art pop / dnd solo artist\, Leigh Rydell – don’t miss their Bowlero debut.\n\nBe sure to catch DJ Ryan Gimpert spinning an eclectic blend of vinyl classics — expect funky jazz\, soul\, disco\, hip hop and 80’s in the lanes!\n\nLimited lanes available to book online in advance. Walk-ins welcome and wait times vary. All ages in the lanes w/ parent or guardian recommended for guests under 17. Free parking.
URL:https://bowlerodetroit.com/show/angie-hartley-dj-ryan-gimpert/
LOCATION:MI
CATEGORIES:80s,Band,Detroit,Disco,folk,Free,Indie,Live DJ,Live Music,Motown,Pop,Retro,Rock,Rockabilly,Soul Music,Vinyl Records
ATTACH;FMTTYPE=image/png:https://bowlerodetroit.com/wp-content/uploads/2025/10/AngieHartley16x9.png
END:VEVENT
BEGIN:VEVENT
DTSTART;TZID=America/Detroit:20251114T210000
DTEND;TZID=America/Detroit:20251115T010000
DTSTAMP:20260424T044633
CREATED:20251016T232510Z
LAST-MODIFIED:20251024T165352Z
UID:10000867-1763154000-1763168400@bowlerodetroit.com
SUMMARY:Post Imperial Jazz Band + DJ Sav G
DESCRIPTION:LIVE IN THE LOUNGE! \nPost Imperial Jazz Band\n+ DJ Sav G (lanes) \nFriday\, November 14\nNo Cover / 18+\n(LIVE MUSIC: 9pm-11pm // DJ: 8pm-1am)\n—————————————– \nPost Imperial Jazz Band is “Jazz for pre-bop souls”…featuring members of Detroit Pleasure Society\, Detroit Party Marching Band\, Lac La Belle\, and the Lo Fi Rhythm Kings\, Post Imperial Jazz Band infuses the energy of Detroit with the most popular musical styles from yesteryear. Fingerpicking guitar leads an ensemble of mandolin\, accordion\, sax/clarinet\, percussion\, and tuba for a truly robust and unique music experience. \nPlus DJ Sav G makes her Bowlero debut in the lanes! House / Funk / Disco & more 🙂 \nLimited lanes available to book online in advance. Walk-ins welcome and wait times vary. All ages in the lanes w/ parent or guardian recommended for guests under 17. Free parking.
URL:https://bowlerodetroit.com/show/post-imperial-jazz-band-dj-sav-g/
LOCATION:MI
CATEGORIES:folk,Free,House Music,Indie,Jazz,Live DJ,Live Music,No cover,Queer,Retro,Soul Music,Vinyl Records
ATTACH;FMTTYPE=image/png:https://bowlerodetroit.com/wp-content/uploads/2025/10/PostImperial16x9-1.png
END:VEVENT
BEGIN:VEVENT
DTSTART;TZID=America/Detroit:20251108T210000
DTEND;TZID=America/Detroit:20251109T010000
DTSTAMP:20260424T044633
CREATED:20251010T190231Z
LAST-MODIFIED:20251022T221959Z
UID:10000866-1762635600-1762650000@bowlerodetroit.com
SUMMARY:Identidade + DJ Big Kahuna
DESCRIPTION:LIVE IN THE LOUNGE! \nIdentidade\n+ DJ Big Kahuna (lanes) \nSaturday\, November 8\n(LIVE MUSIC: 9pm-11pm // DJ: 8pm-1am)\n—————————————— \nIdentidade (Portuguese: Identity; pronounced I-den-ti-da-di) is a Detroit-based band playing Bossa Nova (think Jobim\, Valle\, and Gilberto) and Nu-Bossa. Combining the beguiling beat of Bossa with the harmonic subtlety of jazz\, our music will transport you to Rio. Come to listen\, come to dance. \n+ DJ Big Kahuna spinning house and old school funk in the lanes! \nLimited lanes available to book online in advance. Walk-ins welcome and wait times vary. All ages in the lanes w/ parent or guardian recommended for guests under 17. Free parking.
URL:https://bowlerodetroit.com/show/identidade-dj-big-kahuna/
LOCATION:MI
CATEGORIES:Band,Bossa,Cocktails,House Music,Live DJ,Live Music,No cover,Retro,Soul Music,Vinyl Records
ATTACH;FMTTYPE=image/png:https://bowlerodetroit.com/wp-content/uploads/2025/10/bossa16x9-1.png
END:VEVENT
BEGIN:VEVENT
DTSTART;TZID=America/Detroit:20251107T210000
DTEND;TZID=America/Detroit:20251108T010000
DTSTAMP:20260424T044633
CREATED:20251010T185728Z
LAST-MODIFIED:20251104T143618Z
UID:10000865-1762549200-1762563600@bowlerodetroit.com
SUMMARY:Duende! w/ Alison Lewis + DJ KVB
DESCRIPTION:LIVE IN THE LOUNGE!\n\nDuende\n\nAlison Lewis \n+ DJ KVB (lanes) \n\nFriday\, November 7\n(LIVE MUSIC: 9pm-11pm // DJ: 8pm-1am)——————————————\nDUENDE! has steadily morphed into a band built for anything/everything and some kinda other thing. Sensibilities for stately\, suited up country rock got splashed with the tie-dyed hallucinogens of psychedelia’s surreal glee\, but that’s just a coating atop their penchants for Delta and juke-joint blues\, theatrical murder-ballad inclined folk and grimy psychobilly.\nWith Duende\, you’re at a different kind of Crossroads – playing ring-around-the-rosy with R.L. Burnside\, The Cramps\, Link Wray and maybe even Screaming Jay Hawkins. And the Devil might be there\, too\, keeping time with his hoof stomps. Zesty\, no? Just wait\, their next jam might be a classically clangorous ol’ garage rock anthem.\n\nThis Detroit-based band formed out of a sublime and stormy jam session between longtime players and temporarily servied as the flagship for a modest music collective before endearingly taking on the role of bridge-builder and clique-clipper by curating ongoing monthly music showcases featuring bands of myriad genres and from all corners of town\, howling and rocking inside a Pool Hall just north of Detroit that’s since blossomed into the veritable nerve-center and go-to performing spot for the entire scene. They’ve seen a lot and played a lot\, to be sure\, and that sound\, the sound of those who are indeed on a journey (…or\, trip\, if you will)\, shines through.\n\nLimited lanes available to book online in advance. Walk-ins welcome and wait times vary. All ages in the lanes w/ parent or guardian recommended for guests under 17. Free parking.
URL:https://bowlerodetroit.com/show/duende-dj-kvb/
LOCATION:MI
CATEGORIES:Alternative,Band,Legends,Live DJ,Live Music,Retro,Rockabilly,Vinyl Records
ATTACH;FMTTYPE=image/png:https://bowlerodetroit.com/wp-content/uploads/2025/10/November16x9-1.png
END:VEVENT
BEGIN:VEVENT
DTSTART;TZID=America/Detroit:20251106T200000
DTEND;TZID=America/Detroit:20251107T000000
DTSTAMP:20260424T044633
CREATED:20251008T202025Z
LAST-MODIFIED:20251008T202025Z
UID:10000864-1762459200-1762473600@bowlerodetroit.com
SUMMARY:SOULERO w/ Mike Clark & powdrblu
DESCRIPTION:Mike Clark and powdrblu are thrilled to return to Bowlero Lanes & Lounge on Thursday\, November 6th\, for a night of underground house music\, from 8pm-1am. Bowlero Lanes & Lounge
URL:https://bowlerodetroit.com/show/soulero-w-mike-clark-powdrblu/
LOCATION:MI
CATEGORIES:Detroit,Free,Funk,House Music,Live DJ,Throwback,Vinyl Records
ATTACH;FMTTYPE=image/jpeg:https://bowlerodetroit.com/wp-content/uploads/2025/10/Soulero_Nov_1600x900.jpg
END:VEVENT
BEGIN:VEVENT
DTSTART;TZID=America/Detroit:20251101T210000
DTEND;TZID=America/Detroit:20251102T010000
DTSTAMP:20260424T044633
CREATED:20250930T205713Z
LAST-MODIFIED:20250930T205713Z
UID:10000861-1762030800-1762045200@bowlerodetroit.com
SUMMARY:Jerry's Tone Haunted Bowlero Ball + DJ Ewolf & Beeswax
DESCRIPTION:You are cordially invited to Jerry’s Tone Haunted Bowlero Ball\, Saturday\, November 1\, 2025\, Bowlero Lanes & Lounge\, Royal Oak\, MI.\n\nTwo sets of spooky Grateful Dead/JGB grooves and psychedelic vibes. Wear your Halloween costume again! 8PM-Midnight. Free!!\n\nMatthew Cole\, Guitar\nDave Levy\, Keys\nJohn Lyle\, Bass\nPhilip Nathan\, Guitar\nJoseph Waldecker\, Drums\nWith invited guest musicians!!\n\nDJ Ewolf & Beeswax in the lanes spinning spooky tunes!
URL:https://bowlerodetroit.com/show/jerrys-tone-haunted-bowlero-ball-dj-ewolf-beeswax/
LOCATION:MI
CATEGORIES:70s,Americana,Cocktails,Cover Band,Free,Legends,Live DJ,Live Music
ATTACH;FMTTYPE=image/png:https://bowlerodetroit.com/wp-content/uploads/2025/09/Untitled-design-8.png
END:VEVENT
BEGIN:VEVENT
DTSTART;TZID=America/Detroit:20251031T210000
DTEND;TZID=America/Detroit:20251101T010000
DTSTAMP:20260424T044633
CREATED:20250923T193527Z
LAST-MODIFIED:20251010T184957Z
UID:10000591-1761944400-1761958800@bowlerodetroit.com
SUMMARY:HALLOWEEN w/ the 3-D Invisibles\, Simulation + DJ Tangent!
DESCRIPTION:LIVE IN THE LOUNGE! \n3-D Invisibles\nSimulation\n+ DJ Tangent (lanes) \nFriday\, October 31\nNo Cover\, 18+\n————————–\nThis Halloween\, join us in the lounge for a special performance from The 3-D Invisibles—a Frankenstein-like fusion of early punk\, Famous Monsters\, 60s AM pop\, 50s sci-fi\, and EC comics. Expect spooky riffs\, monster mash-ups\, and a night of retro-horror fun! \nSimulation is a Detroit based garage psychedelic trio that is known for their high intensity\, energetic performances. \n+ DJ Tangent takes over the lanes\, spinning killer hits from the 70s–90s and beyond. \nLimited lanes available to book online in advance. Walk-ins welcome and wait times vary. All ages in the lanes w/ parent or guardian recommended for guests under 17. Free parking.
URL:https://bowlerodetroit.com/show/halloween-w-the-3-d-invisibles-dj-tangent/
LOCATION:MI
CATEGORIES:70s,80s,Band,Free,Holiday,Legends,Live DJ,Live Music,Punk Rock,Retro,Rock,Vintage
ATTACH;FMTTYPE=image/png:https://bowlerodetroit.com/wp-content/uploads/2025/09/Halloween.png
END:VEVENT
BEGIN:VEVENT
DTSTART;TZID=America/Detroit:20251030T190000
DTEND;TZID=America/Detroit:20251031T010000
DTSTAMP:20260424T044633
CREATED:20250923T191659Z
LAST-MODIFIED:20250923T194014Z
UID:10000592-1761850800-1761872400@bowlerodetroit.com
SUMMARY:DEVIL'S NIGHT TIKI LOUNGE w/ Roland Remington
DESCRIPTION:Devil’s Night Tiki in the Lounge w/ Roland Remington! \nStep into a lush mid-century escape this Devil’s Night as Roland Remington brings the spirit of vintage tiki alive with hypnotic exotica\, played on classic melodic percussion instruments. \nNo cover · 18+ · Tiki cocktails · Food pop-up\n——————————————– \nLimited lanes available to book online in advance. Walk-ins welcome and wait times vary. All ages in the lanes w/ parent or guardian recommended for guests under 17. Free parking.
URL:https://bowlerodetroit.com/show/devils-night-tiki-lounge-w-roland-remington/
LOCATION:MI
CATEGORIES:Free,Holiday,Legends,Live Music,Mid Century,Retro,Surf
ATTACH;FMTTYPE=image/png:https://bowlerodetroit.com/wp-content/uploads/2025/09/devilsnight16x9.png
END:VEVENT
BEGIN:VEVENT
DTSTART;TZID=America/Detroit:20251025T210000
DTEND;TZID=America/Detroit:20251026T010000
DTSTAMP:20260424T044633
CREATED:20250911T225646Z
LAST-MODIFIED:20251010T225305Z
UID:10000589-1761426000-1761440400@bowlerodetroit.com
SUMMARY:Carjack! w/ 3 The Hard Way + DJ Sci-Fi Deluxx
DESCRIPTION:LIVE IN THE LOUNGE!\n\nCarjack!\n3 The Hard Way+ DJ Sci-Fi Deluxx (lanes)\n\nSaturday\, October 18(LIVE MUSIC: 9pm-11pm // DJ: 8pm-1am)——————————————\n\nCarjack! is an electro-garage space-punk band from Detroit\, MI! Don’t miss their live set in the lounge alongside  high-voltage rock ‘n’ roll trio 3 The Hard Way! \n+ DJ Sci-Fi Deluxx groovin in the lanes 🙂 \n\nLimited lanes available to book online in advance. Walk-ins welcome and wait times vary. All ages in the lanes w/ parent or guardian recommended for guests under 17. Free parking.
URL:https://bowlerodetroit.com/show/carjack-selma-oxor-3-the-hard-way-dj-chadwick/
LOCATION:MI
ATTACH;FMTTYPE=image/png:https://bowlerodetroit.com/wp-content/uploads/2025/09/carjack16x9-1.png
END:VEVENT
BEGIN:VEVENT
DTSTART;TZID=America/Detroit:20251024T210000
DTEND;TZID=America/Detroit:20251025T010000
DTSTAMP:20260424T044633
CREATED:20250924T154259Z
LAST-MODIFIED:20250924T154259Z
UID:10000859-1761339600-1761354000@bowlerodetroit.com
SUMMARY:The Creepos w/ Matt Smith + DJ Sovain Sylvain
DESCRIPTION:LIVE IN THE LOUNGE! \nThe Creepos\nMatt Smith (solo)\n+ DJ Sovain Sylvain (lanes) \nFriday\, October 24\n(LIVE MUSIC: 9pm-11pm // DJ: 8pm-1am)\n——————————————\nFounded in 2008\, The Creepos is a four-piece rock and roll band featuring Mary Cotter on drums\, Joe Nabozny on Bass (and 12 string guitar)\, Nova Zorok on vocals\, and Nick Pobutsky on lead guitar. Their style is distinctly urgent\, with an energetic flair for dynamic tone colors\, specializing in love songs\, upbeat pop music and tasteful rhythm and blues. \nwsg Matt Smith (solo) \n+ DJ Sovain Sylvain playing soul\, garage and more in the lanes! \nLimited lanes available to book online in advance. Walk-ins welcome and wait times vary. All ages in the lanes w/ parent or guardian recommended for guests under 17. Free parking.
URL:https://bowlerodetroit.com/show/the-creepos-w-matt-smith-dj-sovain-sylvain/
LOCATION:MI
CATEGORIES:Band,Blues,Cocktails,Free,Indie,Live DJ,Live Music,Pop,Retro,Rock,Soul Music
ATTACH;FMTTYPE=image/png:https://bowlerodetroit.com/wp-content/uploads/2025/09/October-Bowlero-16x9-1-2.png
END:VEVENT
END:VCALENDAR