BEGIN:VCALENDAR
VERSION:2.0
PRODID:-//Bowlero Lanes &amp; Lounge, Royal Oak, MI - ECPv6.15.20//NONSGML v1.0//EN
CALSCALE:GREGORIAN
METHOD:PUBLISH
X-ORIGINAL-URL:https://bowlerodetroit.com
X-WR-CALDESC:Events for Bowlero Lanes &amp; Lounge, Royal Oak, MI
REFRESH-INTERVAL;VALUE=DURATION:PT1H
X-Robots-Tag:noindex
X-PUBLISHED-TTL:PT1H
BEGIN:VTIMEZONE
TZID:America/Detroit
BEGIN:DAYLIGHT
TZOFFSETFROM:-0500
TZOFFSETTO:-0400
TZNAME:EDT
DTSTART:20250309T070000
END:DAYLIGHT
BEGIN:STANDARD
TZOFFSETFROM:-0400
TZOFFSETTO:-0500
TZNAME:EST
DTSTART:20251102T060000
END:STANDARD
BEGIN:DAYLIGHT
TZOFFSETFROM:-0500
TZOFFSETTO:-0400
TZNAME:EDT
DTSTART:20260308T070000
END:DAYLIGHT
BEGIN:STANDARD
TZOFFSETFROM:-0400
TZOFFSETTO:-0500
TZNAME:EST
DTSTART:20261101T060000
END:STANDARD
BEGIN:DAYLIGHT
TZOFFSETFROM:-0500
TZOFFSETTO:-0400
TZNAME:EDT
DTSTART:20270314T070000
END:DAYLIGHT
BEGIN:STANDARD
TZOFFSETFROM:-0400
TZOFFSETTO:-0500
TZNAME:EST
DTSTART:20271107T060000
END:STANDARD
END:VTIMEZONE
BEGIN:VEVENT
DTSTART;TZID=America/Detroit:20260411T210000
DTEND;TZID=America/Detroit:20260412T010000
DTSTAMP:20260420T050311
CREATED:20260310T225408Z
LAST-MODIFIED:20260310T225408Z
UID:10000935-1775941200-1775955600@bowlerodetroit.com
SUMMARY:The Whiskey Charmers w/ The Gashounds + DJ MATTATTACK! & DJ STEVIESAIDSO
DESCRIPTION:LIVE IN THE LOUNGE! \nThe Whiskey Charmers\nThe Gashounds\n+ DJ MATTATTACK! & DJ STEVIESAIDSO (lanes) \nSaturday\, Aprill 11\nNo Cover / 18+\n(LIVE MUSIC: 9pm-11pm // DJ: 8pm-1am)\n—————————————–\nThe Whiskey Charmers are dusty Americana without pretension. Melancholy guitar and vocal melodies that give you the feeling of driving down a desert road. \nwsg The Gashounds \n+ Heavy Metal DJ duo DJ MATTATTACK! & DJ STEVIESAIDSO in the lanes \nLimited lanes available to book online in advance. Walk-ins welcome and wait times vary. All ages in the lanes w/ parent or guardian recommended for guests under 17. Free parking.
URL:https://bowlerodetroit.com/show/the-whiskey-charmers-w-the-gashounds-dj-mattattack-dj-steviesaidso/
LOCATION:Bowlero Lanes & Lounge\, 4209 Coolidge Hwy\, Royal Oak\, MI\, 48073\, United States
CATEGORIES:Alternative,Americana,Band,Cocktails,Country,Free,Heavy Metal,Heavy Rock
ATTACH;FMTTYPE=image/png:https://bowlerodetroit.com/wp-content/uploads/2026/03/Whiskey16x9.png
END:VEVENT
BEGIN:VEVENT
DTSTART;TZID=America/Detroit:20260320T210000
DTEND;TZID=America/Detroit:20260321T010000
DTSTAMP:20260420T050311
CREATED:20260220T003753Z
LAST-MODIFIED:20260220T003753Z
UID:10000916-1774040400-1774054800@bowlerodetroit.com
SUMMARY:Craig Brown Band w/ Loose Koozies + DJ Soul-Lo
DESCRIPTION:LIVE IN THE LOUNGE!\n\nCraig Brown Bandw/ Loose Koozies+ DJ Soul-Lo (lanes)\n\nFriday\, March 20No Cover / 18+(LIVE MUSIC: 9pm-11pm // DJ: 8pm-1am)—————————————–“Part country\, part rock\, Craig Brown Band is emblematic of everything Third Man Records stands for. With authentic Americana vibes\, heartfelt lyrics\, and a raw\, honest sound\, Craig’s honky-tonk howl pairs perfectly with the band’s authentic grit. Formerly the lead vocalist and guitarist for punk band Terrible Twos\, Craig’s rock ’n’ roll roots give the band an underground edge” -TN Vacation\n\nThe Loose Koozies are day job dreamers who sing about loving their dogs\, long-forgotten townie nightlife spots\, the eternal power of nature and transcending space\, time and dimension all at once.\n\nDJ Soul-Lo returns to the lanes! Expect Garage / Soul / Motown & more all night \nLimited lanes available to book online in advance. Walk-ins welcome and wait times vary. All ages in the lanes w/ parent or guardian recommended for guests under 17. Free parking.
URL:https://bowlerodetroit.com/show/craig-brown-band-w-loose-koozies-dj-soul-lo/
LOCATION:Bowlero Lanes & Lounge\, 4209 Coolidge Hwy\, Royal Oak\, MI\, 48073\, United States
CATEGORIES:Americana,Band,Country,Garage,Live DJ,Live Music,Retro,Rock and Roll,Vintage,Vinyl Records,Vocalist
ATTACH;FMTTYPE=image/png:https://bowlerodetroit.com/wp-content/uploads/2026/02/CBB16x9.png
END:VEVENT
END:VCALENDAR